BEGIN:VCALENDAR
VERSION:2.0
PRODID:-//wp-events-plugin.com//7.2.3.1//EN
TZID:America/Los_Angeles
X-WR-TIMEZONE:America/Los_Angeles
BEGIN:VEVENT
UID:1161@experiencetacoma.com
DTSTART;TZID=America/Los_Angeles:20150218T180000
DTEND;TZID=America/Los_Angeles:20150218T200000
DTSTAMP:20150126T231550Z
URL:https://experiencetacoma.com/events/zoo-open-house/
SUMMARY:Zoo Open House
DESCRIPTION:February 18\nZoo Open House\nWednesday\, February 18 (6:00pm)\n
 \n\nJoin us to learn more about capital projects at Point Defiance Zoo &am
 p\; Aquarium. We'll meet at the Education Center.\n\nReplacement of the Fa
 iling North Pacific Aquarium\nThe Zoo’s 52-year-old North Pacific Aquari
 um is failing\, weakened by decades of salt-water corrosion\, and its life
  support systems are increasingly fragile. A new Pacific Rim Aquarium will
  continue the longstanding tradition of highlighting Puget Sound marine li
 fe while also showcasing some exciting new species such as Hammerhead shar
 ks and sea turtles that live in the warmer waters of the Sea of Cortez.\n\
 nRenovations and Improvements to the Aging Polar Bear Exhibit\nThe renovat
 ed polar bear exhibit will nearly double in size and meet rising internati
 onal standards\, allowing the Zoo to acquire new polar bears in the future
 . Visitors also can expect more up-close viewing experiences of the bears.
 \n\nRenovation of the Aging Rocky Shores Exhibit\nThe three decades-old Ro
 cky Shores exhibit is showing signs of deterioration\, age and heavy use. 
 Renovations to Rocky Shores – home to walruses\, sea otters\, seals\, an
 d puffins – will improve health and safety features for animals and keep
 ers. Upgrades to animal life-support systems and expanded animal viewing o
 pportunities also will be included in the project.\n\n   
LOCATION:Point Defiance Zoo and Aquarium\, 5400 N. Pearl St.\, Tacoma\, WA\
 , 98407\, United States
GEO:47.306735;-122.51908100000003
X-APPLE-STRUCTURED-LOCATION;VALUE=URI;X-ADDRESS=5400 N. Pearl St.\, Tacoma\
 , WA\, 98407\, United States;X-APPLE-RADIUS=100;X-TITLE=Point Defiance Zoo
  and Aquarium:geo:47.306735,-122.51908100000003
END:VEVENT
BEGIN:VTIMEZONE
TZID:America/Los_Angeles
X-LIC-LOCATION:America/Los_Angeles
BEGIN:STANDARD
DTSTART:20141102T010000
TZOFFSETFROM:-0700
TZOFFSETTO:-0800
TZNAME:PST
END:STANDARD
END:VTIMEZONE
END:VCALENDAR