BEGIN:VCALENDAR
VERSION:2.0
PRODID:-//wp-events-plugin.com//7.2.3.1//EN
TZID:America/Los_Angeles
X-WR-TIMEZONE:America/Los_Angeles
BEGIN:VEVENT
UID:1579@experiencetacoma.com
DTSTART;TZID=America/Los_Angeles:20160529T140000
DTEND;TZID=America/Los_Angeles:20160529T163000
DTSTAMP:20160523T212757Z
URL:https://experiencetacoma.com/events/wiz-presented-tacoma-musical-playh
 ouse/
SUMMARY:The Wiz presented by Tacoma Musical Playhouse
DESCRIPTION:A magical\, musical performance spun off of the original Wizard
  of Oz\, presented by the Tacoma Musical Playhouse.
LOCATION:Tacoma Musical Playhouse\, 7116 6th Ave\, Tacoma\, WA\, 98406\, Un
 ited States
GEO:47.2552771;-122.53239989999997
X-APPLE-STRUCTURED-LOCATION;VALUE=URI;X-ADDRESS=7116 6th Ave\, Tacoma\, WA\
 , 98406\, United States;X-APPLE-RADIUS=100;X-TITLE=Tacoma Musical Playhous
 e:geo:47.2552771,-122.53239989999997
END:VEVENT
BEGIN:VTIMEZONE
TZID:America/Los_Angeles
X-LIC-LOCATION:America/Los_Angeles
BEGIN:DAYLIGHT
DTSTART:20160313T030000
TZOFFSETFROM:-0800
TZOFFSETTO:-0700
TZNAME:PDT
END:DAYLIGHT
END:VTIMEZONE
END:VCALENDAR