BEGIN:VCALENDAR
VERSION:2.0
PRODID:-//wp-events-plugin.com//7.2.3.1//EN
TZID:America/Los_Angeles
X-WR-TIMEZONE:America/Los_Angeles
BEGIN:VEVENT
UID:3605@experiencetacoma.com
DTSTART;TZID=America/Los_Angeles:20180317T080000
DTEND;TZID=America/Los_Angeles:20180317T160000
DTSTAMP:20180314T202224Z
URL:https://experiencetacoma.com/events/ups-flea-market/
SUMMARY:UPS Flea Market
DESCRIPTION:\nUniversity of Puget Sound Memorial Fieldhouse\nN. 11th St. an
 d Union Ave.\n8:00 a.m.—9:30 a.m.: $10 Early Entry\n9:30 a.m.—4:00 p.m
 .: $5 Entry*\n*Children 2 and under may enter for free.\n\n100% of admissi
 on fees go to student scholarships. Thank you for your support! 
CATEGORIES:Charitable,Family Friendly
LOCATION:University of Puget Sound Memorial Fieldhouse\, N 11th Ave and Uni
 on\, Tacoma\, WA\, United States
GEO:47.2599415;-122.48417940000002
X-APPLE-STRUCTURED-LOCATION;VALUE=URI;X-ADDRESS=N 11th Ave and Union\, Taco
 ma\, WA\, United States;X-APPLE-RADIUS=100;X-TITLE=University of Puget Sou
 nd Memorial Fieldhouse:geo:47.2599415,-122.48417940000002
END:VEVENT
BEGIN:VTIMEZONE
TZID:America/Los_Angeles
X-LIC-LOCATION:America/Los_Angeles
BEGIN:DAYLIGHT
DTSTART:20180311T030000
TZOFFSETFROM:-0800
TZOFFSETTO:-0700
TZNAME:PDT
END:DAYLIGHT
END:VTIMEZONE
END:VCALENDAR