BEGIN:VCALENDAR
VERSION:2.0
PRODID:-//wp-events-plugin.com//7.2.3.1//EN
TZID:America/Los_Angeles
X-WR-TIMEZONE:America/Los_Angeles
BEGIN:VEVENT
UID:1655@experiencetacoma.com
DTSTART;TZID=America/Los_Angeles:20160817T183000
DTEND;TZID=America/Los_Angeles:20160818T203000
DTSTAMP:20160609T042059Z
URL:https://experiencetacoma.com/events/treos-summer-concert-series-2016-0
 8-17/
SUMMARY:Treos Summer Concert Series
DESCRIPTION:Every Wednesday a new collection of musical finesse will grace 
 Old Town Park thanks to Treos Coffee. 6:30-8:30 pm.
ATTACH;FMTTYPE=image/jpeg:https://experiencetacoma.com/wp-content/uploads/
 13263817_1735785183365047_4178009522002757448_n.jpg
LOCATION:Old Town Park\, 2350 N. 30th St.\, Tacoma\, Washington\, 98403\, U
 nited States
GEO:47.274355;-122.468455
X-APPLE-STRUCTURED-LOCATION;VALUE=URI;X-ADDRESS=2350 N. 30th St.\, Tacoma\,
  Washington\, 98403\, United States;X-APPLE-RADIUS=100;X-TITLE=Old Town Pa
 rk:geo:47.274355,-122.468455
END:VEVENT
BEGIN:VTIMEZONE
TZID:America/Los_Angeles
X-LIC-LOCATION:America/Los_Angeles
BEGIN:DAYLIGHT
DTSTART:20160313T030000
TZOFFSETFROM:-0800
TZOFFSETTO:-0700
TZNAME:PDT
END:DAYLIGHT
END:VTIMEZONE
END:VCALENDAR