BEGIN:VCALENDAR
VERSION:2.0
PRODID:-//wp-events-plugin.com//7.2.3.1//EN
TZID:America/Los_Angeles
X-WR-TIMEZONE:America/Los_Angeles
BEGIN:VEVENT
UID:3924@experiencetacoma.com
DTSTART;TZID=America/Los_Angeles:20190209T193000
DTEND;TZID=America/Los_Angeles:20190209T213000
DTSTAMP:20190108T204805Z
URL:https://experiencetacoma.com/events/the-tacoma-concert-band-presents-m
 ilitary-salute/
SUMMARY:The Tacoma Concert Band Presents “Military Salute”
DESCRIPTION:The Tacoma Concert Band Presents\n“Military Salute”\nSaturd
 ay\, Feb 9\, 2018 at 7:30 PM\nPantages Theater\nTickets Starting at $18\nF
 ree tickets to active-duty military members and their immediate family.\nJ
 oin us for an evening to celebrate our military service men and women and 
 thank them for their commitment to our country. The program will include f
 amiliar patriotic works\, as well as compositions written to commemorate m
 ilitary campaigns throughout the world.
ATTACH;FMTTYPE=image/jpeg:https://experiencetacoma.com/wp-content/uploads/
 Feb2.jpg
CATEGORIES:Entertaining
LOCATION:Pantages Theater\, 901 Broadway\, Tacoma\, Wasington\, 98402\, Uni
 ted States
GEO:47.2551827;-122.4402948
X-APPLE-STRUCTURED-LOCATION;VALUE=URI;X-ADDRESS=901 Broadway\, Tacoma\, Was
 ington\, 98402\, United States;X-APPLE-RADIUS=100;X-TITLE=Pantages Theater
 :geo:47.2551827,-122.4402948
END:VEVENT
BEGIN:VTIMEZONE
TZID:America/Los_Angeles
X-LIC-LOCATION:America/Los_Angeles
BEGIN:STANDARD
DTSTART:20181104T010000
TZOFFSETFROM:-0700
TZOFFSETTO:-0800
TZNAME:PST
END:STANDARD
END:VTIMEZONE
END:VCALENDAR