BEGIN:VCALENDAR
VERSION:2.0
PRODID:-//wp-events-plugin.com//7.2.3.1//EN
TZID:America/Los_Angeles
X-WR-TIMEZONE:America/Los_Angeles
BEGIN:VEVENT
UID:2034@experiencetacoma.com
DTSTART;TZID=America/Los_Angeles:20160708T210000
DTEND;TZID=America/Los_Angeles:20160709T235900
DTSTAMP:20160707T210831Z
URL:https://experiencetacoma.com/events/the-spazmatics-at-the-swiss/
SUMMARY:The Spazmatics at The Swiss
DESCRIPTION:If you love 80's throwbacks\, you will LOVE the Spazmatics!!\nF
 riday and Saturday from 9 pm to 1 am\n\nJoin this quirky\, self-proclaimed
  nerd squad as they dish out unforgettable covers to all of your favorite 
 old hits.
LOCATION:The Swiss Pub and Restaurant\, 1904 Jefferson Ave\, Tacoma\, Unite
 d States
GEO:47.2447187;-122.43925539999998
X-APPLE-STRUCTURED-LOCATION;VALUE=URI;X-ADDRESS=1904 Jefferson Ave\, Tacoma
 \, United States;X-APPLE-RADIUS=100;X-TITLE=The Swiss Pub and Restaurant:g
 eo:47.2447187,-122.43925539999998
END:VEVENT
BEGIN:VTIMEZONE
TZID:America/Los_Angeles
X-LIC-LOCATION:America/Los_Angeles
BEGIN:DAYLIGHT
DTSTART:20160313T030000
TZOFFSETFROM:-0800
TZOFFSETTO:-0700
TZNAME:PDT
END:DAYLIGHT
END:VTIMEZONE
END:VCALENDAR