BEGIN:VCALENDAR
VERSION:2.0
PRODID:-//wp-events-plugin.com//7.2.3.1//EN
TZID:America/Los_Angeles
X-WR-TIMEZONE:America/Los_Angeles
BEGIN:VEVENT
UID:3326@experiencetacoma.com
DTSTART;TZID=America/Los_Angeles:20170812T110000
DTEND;TZID=America/Los_Angeles:20170812T230000
DTSTAMP:20170811T233335Z
URL:https://experiencetacoma.com/events/tacoma-summer-love-craft-beer-fest
 ival/
SUMMARY:Tacoma Summer of Love Craft Beer Festival
DESCRIPTION:\n\nTie dye\, LSD\, free love\, peace protests\, music and medi
 tation. Five decades ago\, San Francisco became the center of countercultu
 re\, and Peaks and Pints will celebrate the Summer of Love with Tacoma bre
 weries Saturday\, Aug. 12\, one of many special events we have planned dur
 ing Tacoma Beer Week Aug. 6-12\, 2017. Tacoma breweries will brew a specia
 l beer inspired by their favorite hippie songs of 1967 and we’ll pour th
 em from our Western red cedar tap log while our jukebox pumps out what was
  heard squealing out windows from Hashbury lofts and bouncing out of radio
 s in Carnaby Street clothing shops back during that special bohemian summe
 r. Narrows Brewing will brew their take on “Lucy In The Sky with Diamond
 s” calle...d "Tangerine Trees And Marmalade Skies." The brewers at Wingm
 an Brewers Tacoma are happy together so it only makes sense they’ll be b
 rewing “Hoppy Together.” Harmon Brewery &amp\; Restaurant has flowers 
 behind their ears and "Shandy Fields Forever" in a keg. Pacific Brewing &a
 mp\; Malting Co. trips out with "White Rabbit\," a witbier. Odd Otter Brew
 ing Company will brew a white IPA called Summer Ekuanot heavy on Australia
 n hops\, man. Tacoma Brewing Co. is about “Purple Haze” — a New Engl
 and style IPA with blackberries and blueberries. What will Dystopian State
  Brewing Co. create? Place a flower behind your ear\, drop in at Peaks and
  Pints and enjoy a summer day of craft beer love. A specific taplist will 
 follow soon.\n\nTACOMA SUMMER OF LOVE CRAFT BEER FESTIVAL\, 11 a.m. to 11 
 p.m.\, Saturday\, Aug. 12\, Peaks and Pints\, 3816 N. 26th St.\, Basecamp 
 Proctor\, Tacoma\, no cover\n&nbsp\;
CATEGORIES:Tasty
LOCATION:Peaks and Pints\, 3816 N. 26th Street\, Tacoma\, United States
X-APPLE-STRUCTURED-LOCATION;VALUE=URI;X-ADDRESS=3816 N. 26th Street\, Tacom
 a\, United States;X-APPLE-RADIUS=100;X-TITLE=Peaks and Pints:geo:0,0
END:VEVENT
BEGIN:VTIMEZONE
TZID:America/Los_Angeles
X-LIC-LOCATION:America/Los_Angeles
BEGIN:DAYLIGHT
DTSTART:20170312T030000
TZOFFSETFROM:-0800
TZOFFSETTO:-0700
TZNAME:PDT
END:DAYLIGHT
END:VTIMEZONE
END:VCALENDAR