BEGIN:VCALENDAR
VERSION:2.0
PRODID:-//wp-events-plugin.com//7.2.3.1//EN
TZID:America/Los_Angeles
X-WR-TIMEZONE:America/Los_Angeles
BEGIN:VEVENT
UID:905@experiencetacoma.com
DTSTART;TZID=America/Los_Angeles:20150122T110000
DTEND;TZID=America/Los_Angeles:20150125T170000
DTSTAMP:20150108T211211Z
URL:https://experiencetacoma.com/events/tacoma-home-garden-show/
SUMMARY:Tacoma Home and Garden Show
DESCRIPTION:The 32nd annual Tacoma Home &amp\; Garden Show® features over 
 750 exhibitors\, television personality and designer Rachel Kate\, the pop
 ular Vintage Market\, a major kitchen showcase\, the Plant Market\, around
 -the-clock “how-to” seminars and more. Rachel Kate\, “HGTV’s Desig
 n Star” finalist and recurring guest on “Rehab Addict\,” appears at 
 the show on Friday\, January 23 and Saturday\, January 24. Her presentatio
 ns will include 2015 home trends and D.I.Y design ideas. Rachel combines h
 er knowledge of textiles\, manufacturing and design to create a fun\, new 
 line of bedding and home goods. The popular “Vintage Market” returns t
 his year as repurposed and “shabby-chic” items for the garden and home
  are spotlighted by over a dozen local vendors. From farmhouse collectible
 s and classic cowboy goods\, to architectural salvage\, repurposed lightin
 g and furniture pieces\, all of these and more can be found at The Vintage
  Market. Admission to the show is $12.00 for adults and free to children 1
 6 and under. Info:http://www.otshows.com/ths/
LOCATION:Tacoma Dome\, 2727 E D St \, Tacoma\, Washington\, 98421\, United 
 States
GEO:47.23634;-122.42683399999999
X-APPLE-STRUCTURED-LOCATION;VALUE=URI;X-ADDRESS=2727 E D St \, Tacoma\, Was
 hington\, 98421\, United States;X-APPLE-RADIUS=100;X-TITLE=Tacoma Dome:geo
 :47.23634,-122.42683399999999
END:VEVENT
BEGIN:VTIMEZONE
TZID:America/Los_Angeles
X-LIC-LOCATION:America/Los_Angeles
BEGIN:STANDARD
DTSTART:20141102T010000
TZOFFSETFROM:-0700
TZOFFSETTO:-0800
TZNAME:PST
END:STANDARD
END:VTIMEZONE
END:VCALENDAR