BEGIN:VCALENDAR
VERSION:2.0
PRODID:-//wp-events-plugin.com//7.2.3.1//EN
TZID:America/Los_Angeles
X-WR-TIMEZONE:America/Los_Angeles
BEGIN:VEVENT
UID:3366@experiencetacoma.com
DTSTART;TZID=America/Los_Angeles:20170916T160000
DTEND;TZID=America/Los_Angeles:20170916T200000
DTSTAMP:20170908T232223Z
URL:https://experiencetacoma.com/events/stadium-art-wine-beer-walk-2/
SUMMARY:Stadium Art\, Wine & Beer Walk
DESCRIPTION:The Stadium Historic Business District's signature event! Strol
 l the beautiful district viewing beautiful &amp\; unique local art\, sampl
 ing wine\, local craft beer &amp\; tasty tidbits at the local participatin
 g businesses. Musical entertainment at various locations &amp\; in the Bee
 r &amp\; Wine Garden. Come visit with your neighbors &amp\; make new frien
 ds. Discover the business venues in the district &amp\; find some special 
 art pieces to purchase directly from the artists! Tickets are available on
 line at www.stadiumartwineandbeerwalk.com or at Stadium Thriftway\, Doyles
  Public House\, King's Books\, Cartozian Fine Flooring &amp\; Rugs\, Carpe
  Diem Massage\, Ranko's Pharmacy &amp\; Columbia Bank Stadium Branch for $
 25 presale until 9/15/17. Raffle to benefit Mary Bridge Children's Hospita
 l.\n\n
CATEGORIES:Charitable,Entertaining,Tasty
LOCATION:Stadium Historic District\, 601 N 1st St\, Tacoma \, United States
X-APPLE-STRUCTURED-LOCATION;VALUE=URI;X-ADDRESS=601 N 1st St\, Tacoma \, Un
 ited States;X-APPLE-RADIUS=100;X-TITLE=Stadium Historic District:geo:0,0
END:VEVENT
BEGIN:VTIMEZONE
TZID:America/Los_Angeles
X-LIC-LOCATION:America/Los_Angeles
BEGIN:DAYLIGHT
DTSTART:20170312T030000
TZOFFSETFROM:-0800
TZOFFSETTO:-0700
TZNAME:PDT
END:DAYLIGHT
END:VTIMEZONE
END:VCALENDAR