BEGIN:VCALENDAR
VERSION:2.0
PRODID:-//wp-events-plugin.com//7.2.3.1//EN
TZID:America/Los_Angeles
X-WR-TIMEZONE:America/Los_Angeles
BEGIN:VEVENT
UID:3782@experiencetacoma.com
DTSTART;TZID=America/Los_Angeles:20180706T180000
DTEND;TZID=America/Los_Angeles:20180706T193000
DTSTAMP:20180706T000157Z
URL:https://experiencetacoma.com/events/spaceworks-info-session/
SUMMARY:Spaceworks Info Session
DESCRIPTION:Start a business\, inspire the community\, create art - we'll h
 elp you grow with training and technical support. Spaceworks Tacoma will s
 how you how our 4 programs: Artscapes\, Incubator\, Special Projects and C
 oworking\, help support Tacoma artists and Entrepreneurs.
ATTACH;FMTTYPE=image/jpeg:https://experiencetacoma.com/wp-content/uploads/
 Saiyare_Refaei_SP_2017_Haydon_33.jpg
CATEGORIES:Free
LOCATION:Tacoma Rainbow Center\, 2215 Pacific Ave\, Tacoma\, WA \, 98402\, 
 United States
X-APPLE-STRUCTURED-LOCATION;VALUE=URI;X-ADDRESS=2215 Pacific Ave\, Tacoma\,
  WA \, 98402\, United States;X-APPLE-RADIUS=100;X-TITLE=Tacoma Rainbow Cen
 ter:geo:0,0
END:VEVENT
BEGIN:VTIMEZONE
TZID:America/Los_Angeles
X-LIC-LOCATION:America/Los_Angeles
BEGIN:DAYLIGHT
DTSTART:20180311T030000
TZOFFSETFROM:-0800
TZOFFSETTO:-0700
TZNAME:PDT
END:DAYLIGHT
END:VTIMEZONE
END:VCALENDAR