BEGIN:VCALENDAR
VERSION:2.0
PRODID:-//wp-events-plugin.com//7.2.3.1//EN
TZID:America/Los_Angeles
X-WR-TIMEZONE:America/Los_Angeles
BEGIN:VEVENT
UID:3369@experiencetacoma.com
DTSTART;TZID=America/Los_Angeles:20170928T180000
DTEND;TZID=America/Los_Angeles:20170928T213000
DTSTAMP:20170908T233809Z
URL:https://experiencetacoma.com/events/south-sound-women-watch/
SUMMARY:South Sound Women to Watch
DESCRIPTION:\n\nPresented by South Sound magazine\, South Sound Women to Wa
 tch 2017 is promised to be an amazing evening of inspiration and encourage
 ment. Bring a friend\, co-worker\, niece\, aunt or any influential woman i
 n your life and join us for an amazing evening of inspiration and encourag
 ement. You won’t want to miss this exclusive opportunity to learn from i
 nspirational women about embracing your strengths\, making your own succes
 s\, and transforming the way you live! Buy your tickets now and use #South
 SoundW2W to let us know you are coming! \n\nSpeakers\n\nSoyeon Yi - Astron
 aut\nLynnae Schneller - Entrepreneur\nLisa Hallett - Humanitarian\nTiffany
  Bluhm - Writer\nMayor (Marilyn) Strickland - Tacoma Mayor\nCandice Russel
 l - Songwriter\nEvent Schedule\n6:00 p.m. Social Reception Begins\n7:00 p.
 m. Women to Watch Begins\n7:50 p.m. – 8:05 p.m. Intermission\n8:05 p.m. 
 Women to Watch Commences\n9:15 p.m. Moderated Q&amp\;A Discussion\n9:30 p.
 m. Meet and Greet Reception with Speakers in Lobby\n9:30 p.m. Event ends\n
CATEGORIES:Entertaining
LOCATION:UWT\, 1918 Pacific Ave. \, Tacoma\, United States
X-APPLE-STRUCTURED-LOCATION;VALUE=URI;X-ADDRESS=1918 Pacific Ave. \, Tacoma
 \, United States;X-APPLE-RADIUS=100;X-TITLE=UWT:geo:0,0
END:VEVENT
BEGIN:VTIMEZONE
TZID:America/Los_Angeles
X-LIC-LOCATION:America/Los_Angeles
BEGIN:DAYLIGHT
DTSTART:20170312T030000
TZOFFSETFROM:-0800
TZOFFSETTO:-0700
TZNAME:PDT
END:DAYLIGHT
END:VTIMEZONE
END:VCALENDAR