BEGIN:VCALENDAR
VERSION:2.0
PRODID:-//wp-events-plugin.com//7.2.3.1//EN
TZID:America/Los_Angeles
X-WR-TIMEZONE:America/Los_Angeles
BEGIN:VEVENT
UID:1494@experiencetacoma.com
DTSTART;TZID=America/Los_Angeles:20151017T180000
DTEND;TZID=America/Los_Angeles:20151017T220000
DTSTAMP:20150916T203609Z
URL:https://experiencetacoma.com/events/south-sound-wheels-for-water/
SUMMARY:South Sound Wheels for Water
DESCRIPTION:Join this charity event that supports water for people. This ev
 ent will be filled with fun\, refreshments\, and beautiful cars to look at
 .
LOCATION:LeMay Museum\, 2702 East D. Street\, Tacoma\, WA\, 98421\, United 
 States
GEO:47.23769189999999;-122.42883849999998
X-APPLE-STRUCTURED-LOCATION;VALUE=URI;X-ADDRESS=2702 East D. Street\, Tacom
 a\, WA\, 98421\, United States;X-APPLE-RADIUS=100;X-TITLE=LeMay Museum:geo
 :47.23769189999999,-122.42883849999998
END:VEVENT
BEGIN:VTIMEZONE
TZID:America/Los_Angeles
X-LIC-LOCATION:America/Los_Angeles
BEGIN:DAYLIGHT
DTSTART:20150308T030000
TZOFFSETFROM:-0800
TZOFFSETTO:-0700
TZNAME:PDT
END:DAYLIGHT
END:VTIMEZONE
END:VCALENDAR