BEGIN:VCALENDAR
VERSION:2.0
PRODID:-//wp-events-plugin.com//7.2.3.1//EN
TZID:America/Los_Angeles
X-WR-TIMEZONE:America/Los_Angeles
BEGIN:VEVENT
UID:3287@experiencetacoma.com
DTSTART;TZID=America/Los_Angeles:20170804T190000
DTEND;TZID=America/Los_Angeles:20170804T210000
DTSTAMP:20170728T225338Z
URL:https://experiencetacoma.com/events/shakespeare-in-the-park-3/
SUMMARY:Shakespeare in the Park
DESCRIPTION:Shakespeare’s screwball comedy features the bantering of two 
 of his cleverest characters. For Beatrice and Benedick love is a game of w
 its played with guarded hearts. Yet everyone can see they’re meant for e
 ach other. Newly engaged Hero and Claudio conspire to trick the pair into 
 admitting their affections and falling for each other. But schemes are afo
 ot to ruin everyone’s happiness through dire accusations. Will love win 
 out in the end?\n\n
CATEGORIES:Entertaining,Family Friendly,Free
LOCATION:Wright Park\, 316 S. G St\, Tacoma\, Washington\, 98405\, United S
 tates
GEO:47.2602059;-122.449096
X-APPLE-STRUCTURED-LOCATION;VALUE=URI;X-ADDRESS=316 S. G St\, Tacoma\, Wash
 ington\, 98405\, United States;X-APPLE-RADIUS=100;X-TITLE=Wright Park:geo:
 47.2602059,-122.449096
END:VEVENT
BEGIN:VTIMEZONE
TZID:America/Los_Angeles
X-LIC-LOCATION:America/Los_Angeles
BEGIN:DAYLIGHT
DTSTART:20170312T030000
TZOFFSETFROM:-0800
TZOFFSETTO:-0700
TZNAME:PDT
END:DAYLIGHT
END:VTIMEZONE
END:VCALENDAR