BEGIN:VCALENDAR
VERSION:2.0
PRODID:-//wp-events-plugin.com//7.2.3.1//EN
TZID:America/Los_Angeles
X-WR-TIMEZONE:America/Los_Angeles
BEGIN:VEVENT
UID:1182@experiencetacoma.com
DTSTART;TZID=America/Los_Angeles:20150301T140000
DTEND;TZID=America/Los_Angeles:20150301T153000
DTSTAMP:20150216T190732Z
URL:https://experiencetacoma.com/events/seussical-tya/
SUMMARY:Seussical TYA
DESCRIPTION:The Cat in the Hat tells the story of Horton\, an elephant who 
 discovers a speck of dust containing Whos\, including Jojo\, a Who child s
 ent off to military school for thinking too many "thinks." Horton faces a 
 double challenge--not only must he protect the Whos from a world of naysay
 ers and dangers\, but he must guard an abandoned egg\, left to his care by
  the irresponsible Mayzie La Bird. Although Horton faces ridicule\, danger
 \, kidnapping\, and a trial\, the intrepid Gertrude McFuzz never loses fai
 th in him. Ultimately\, the powers of friendship\, loyalty\, family\, and 
 community are challenged and emerge triumphant. Saturday\, Feb 21 &amp\; 2
 8\, 11am &amp\; 2pm\, Sunday\, Feb 22 &amp\; Mar 1\, 2pm. Info: https://t
 mp.org/index.php/tmp-family-theater/
LOCATION:Tacoma Musical Playhouse\, 7116 6th Ave\, Tacoma\, WA\, 98406\, Un
 ited States
GEO:47.2552771;-122.53239989999997
X-APPLE-STRUCTURED-LOCATION;VALUE=URI;X-ADDRESS=7116 6th Ave\, Tacoma\, WA\
 , 98406\, United States;X-APPLE-RADIUS=100;X-TITLE=Tacoma Musical Playhous
 e:geo:47.2552771,-122.53239989999997
END:VEVENT
BEGIN:VTIMEZONE
TZID:America/Los_Angeles
X-LIC-LOCATION:America/Los_Angeles
BEGIN:STANDARD
DTSTART:20141102T010000
TZOFFSETFROM:-0700
TZOFFSETTO:-0800
TZNAME:PST
END:STANDARD
END:VTIMEZONE
END:VCALENDAR