BEGIN:VCALENDAR
VERSION:2.0
PRODID:-//wp-events-plugin.com//7.2.3.1//EN
TZID:America/Los_Angeles
X-WR-TIMEZONE:America/Los_Angeles
BEGIN:VEVENT
UID:1151@experiencetacoma.com
DTSTART;TZID=America/Los_Angeles:20150208T130000
DTEND;TZID=America/Los_Angeles:20150208T143000
DTSTAMP:20150126T215305Z
URL:https://experiencetacoma.com/events/second-sunday-music-series/
SUMMARY:Second Sunday Music Series
DESCRIPTION:February 8\nSecond Sunday Music Series\nSunday\, February 8 (1:
 00pm - 2:30pm)\n\n\nEnjoy live acoustic music among lush tropical floral d
 isplays on the second Sunday of every month.\n\nThe performers reflect a w
 ide spectrum of musical tastes and the music is intended to appeal to audi
 ences of all ages and sensibilities.\n\nMost of the year\, the music is pl
 ayed inside the Conservatory and the music can be heard while visitors vie
 w the various gorgeous botanical exhibits. Once in awhile\, during the sum
 mer\, the greenhouse gets warm enough that the musicians set up outside\, 
 under one of the park's magnificent old trees.\n\nSuggested donation $3\nW
 .W. Seymour Conservatory\n316 S. G St.\, in Wright Park\n591-5330\nSeymour
 Conservatory.org
LOCATION:W.W. Seymour Conservatory\, 316 S. G St.\, Tacoma\, WA\, 98405\, S
 tadium\, United States
GEO:47.2602713;-122.44821910000002
X-APPLE-STRUCTURED-LOCATION;VALUE=URI;X-ADDRESS=316 S. G St.\, Tacoma\, WA\
 , 98405\, Stadium\, United States;X-APPLE-RADIUS=100;X-TITLE=W.W. Seymour 
 Conservatory:geo:47.2602713,-122.44821910000002
END:VEVENT
BEGIN:VTIMEZONE
TZID:America/Los_Angeles
X-LIC-LOCATION:America/Los_Angeles
BEGIN:STANDARD
DTSTART:20141102T010000
TZOFFSETFROM:-0700
TZOFFSETTO:-0800
TZNAME:PST
END:STANDARD
END:VTIMEZONE
END:VCALENDAR