BEGIN:VCALENDAR
VERSION:2.0
PRODID:-//wp-events-plugin.com//7.2.3.1//EN
TZID:America/Los_Angeles
X-WR-TIMEZONE:America/Los_Angeles
BEGIN:VEVENT
UID:2672@experiencetacoma.com
DTSTART;TZID=America/Los_Angeles:20170218T170000
DTEND;TZID=America/Los_Angeles:20170218T200000
DTSTAMP:20170218T210703Z
URL:https://experiencetacoma.com/events/rhein-haus-grand-opening/
SUMMARY:Rhein Haus Grand Opening
DESCRIPTION:Achtung\, unsere Freunde! The date of the Grand Opening of Rhei
 n Haus Tacoma has been delayed one week to Saturday\, February 18th. The B
 avarian Village Band is honored and excited to perform our all-acoustic Bl
 asmusik for that event. Rhein Haus Tacoma is located in the heart of Tacom
 a's Stadium District in the former Titus Will Services &amp\; Tire Buildin
 g and across the street from beautiful Wright Park. Please put this new da
 te of the event on your calendars and be there!
CATEGORIES:Tasty
LOCATION:Rhein Haus\, 649 Division Ave\, Tacoma\, Wa\, United States
X-APPLE-STRUCTURED-LOCATION;VALUE=URI;X-ADDRESS=649 Division Ave\, Tacoma\,
  Wa\, United States;X-APPLE-RADIUS=100;X-TITLE=Rhein Haus:geo:0,0
END:VEVENT
BEGIN:VTIMEZONE
TZID:America/Los_Angeles
X-LIC-LOCATION:America/Los_Angeles
BEGIN:STANDARD
DTSTART:20161106T010000
TZOFFSETFROM:-0700
TZOFFSETTO:-0800
TZNAME:PST
END:STANDARD
END:VTIMEZONE
END:VCALENDAR