BEGIN:VCALENDAR
VERSION:2.0
PRODID:-//wp-events-plugin.com//7.2.3.1//EN
TZID:America/Los_Angeles
X-WR-TIMEZONE:America/Los_Angeles
BEGIN:VEVENT
UID:3886@experiencetacoma.com
DTSTART;TZID=America/Los_Angeles:20181027T180000
DTEND;TZID=America/Los_Angeles:20181027T233000
DTSTAMP:20181023T190524Z
URL:https://experiencetacoma.com/events/reaper-ride/
SUMMARY:Reaper Ride
DESCRIPTION:MOB Riders! It's. THE 10th ANNIVERSARY REAPER RIDE!!!!!\n\nCOST
 UME BICYCLE PUB CRUISE\n\nSATURDAY OCTOBER 27th - 6pm - State Street Beer 
 Co.\n\nRiding bikes is FREE! It don't cost nothin'\, you just jump on and 
 ride. See how that works?\nNot a training ride. No lycra. Pedal any bike y
 ou want! We're visiting four local watering holes throughout the nite. Rol
 ling in a big pack and we don't drop anyone. Bike at your own risk. 21+. R
 ain or shine we ride.\n\nTacoma Mob Riders\, for 10 years now...we own the
  streets!
CATEGORIES:Free
LOCATION:State Street Beer Company\, 606 N State St\, Tacoma\, WA\, United 
 States
X-APPLE-STRUCTURED-LOCATION;VALUE=URI;X-ADDRESS=606 N State St\, Tacoma\, W
 A\, United States;X-APPLE-RADIUS=100;X-TITLE=State Street Beer Company:geo
 :0,0
END:VEVENT
BEGIN:VTIMEZONE
TZID:America/Los_Angeles
X-LIC-LOCATION:America/Los_Angeles
BEGIN:DAYLIGHT
DTSTART:20180311T030000
TZOFFSETFROM:-0800
TZOFFSETTO:-0700
TZNAME:PDT
END:DAYLIGHT
END:VTIMEZONE
END:VCALENDAR