BEGIN:VCALENDAR
VERSION:2.0
PRODID:-//wp-events-plugin.com//7.2.3.1//EN
TZID:America/Los_Angeles
X-WR-TIMEZONE:America/Los_Angeles
BEGIN:VEVENT
UID:3756@experiencetacoma.com
DTSTART;TZID=America/Los_Angeles:20180513T180000
DTEND;TZID=America/Los_Angeles:20180513T235900
DTSTAMP:20180511T192605Z
URL:https://experiencetacoma.com/events/pop-up-sip-spin-mothers-day-editio
 n/
SUMMARY:POP UP // SIP & SPIN // MOTHERS DAY EDITION
DESCRIPTION:SUNDAY MAY 13TH // ZSC // SIP AND SPIN // WEATHERHEAD RECORDS
CATEGORIES:Entertaining,Tasty
END:VEVENT
BEGIN:VTIMEZONE
TZID:America/Los_Angeles
X-LIC-LOCATION:America/Los_Angeles
BEGIN:DAYLIGHT
DTSTART:20180311T030000
TZOFFSETFROM:-0800
TZOFFSETTO:-0700
TZNAME:PDT
END:DAYLIGHT
END:VTIMEZONE
END:VCALENDAR