BEGIN:VCALENDAR
VERSION:2.0
PRODID:-//wp-events-plugin.com//7.2.3.1//EN
TZID:America/Los_Angeles
X-WR-TIMEZONE:America/Los_Angeles
BEGIN:VEVENT
UID:1194@experiencetacoma.com
DTSTART;TZID=America/Los_Angeles:20150307T193000
DTEND;TZID=America/Los_Angeles:20150307T210000
DTSTAMP:20170130T230507Z
URL:https://experiencetacoma.com/events/pier-peer-tacoma-2/
SUMMARY:Pier Peer in Tacoma
DESCRIPTION:\n\nMarch 7\nPier Peer in Tacoma\nSaturday\, March 7 (7:30pm - 
 9:00pm)\nBring your family and join us for an aquatic night-time adventure
  as you explore hundreds of mysterious life forms below the docks with exp
 erienced naturalists!\n\nSee and touch creatures brought up from the deep 
 by local divers. Participate in a plankton tow.\n\nAfter this exciting out
 door adventure\, we'll go inside to warm up\, drink hot cocoa and talk abo
 ut what we saw. Dress for the weather - the docks can be wet - and bring y
 our own flashlights. We provide life jackets as well as scoops to catch se
 a creatures.\n\nReservations required.\n\n\nOr call Tacoma Nature Center (
 253) 591-6439\nHeld at Foss Waterway Seaport\n\n	Ages 8 and up ONLY!\n	$8.
 00/person*\n	Each child requires one adult companion.\n	Pre-registration 
 required.\n	Bring a flashlight or headlamp.\n	Personal flotation devices (
 life-jackets) will be provided and required\, but feel free to bring your 
 own.\n	Wear good shoes and warm clothes. Docks may be wet and slippery!\n\
 n\n\n\nFind More Fun:\n\n\n\n\n\n&nbsp\;
LOCATION:Tacoma Nature Center\, 1919 S Tyler\, Tacoma\, WA\, United States
GEO:47.2421723;-122.49320539999997
X-APPLE-STRUCTURED-LOCATION;VALUE=URI;X-ADDRESS=1919 S Tyler\, Tacoma\, WA\
 , United States;X-APPLE-RADIUS=100;X-TITLE=Tacoma Nature Center:geo:47.242
 1723,-122.49320539999997
END:VEVENT
BEGIN:VTIMEZONE
TZID:America/Los_Angeles
X-LIC-LOCATION:America/Los_Angeles
BEGIN:STANDARD
DTSTART:20141102T010000
TZOFFSETFROM:-0700
TZOFFSETTO:-0800
TZNAME:PST
END:STANDARD
END:VTIMEZONE
END:VCALENDAR