BEGIN:VCALENDAR
VERSION:2.0
PRODID:-//wp-events-plugin.com//7.2.3.1//EN
TZID:America/Los_Angeles
X-WR-TIMEZONE:America/Los_Angeles
BEGIN:VEVENT
UID:3559@experiencetacoma.com
DTSTART;TZID=America/Los_Angeles:20180222T183000
DTEND;TZID=America/Los_Angeles:20180222T203000
DTSTAMP:20180206T221618Z
URL:https://experiencetacoma.com/events/petals-paesan-kitchen-bar/
SUMMARY:Petals at Paesan Kitchen and Bar
DESCRIPTION:Join us at the Paesan Kitchen and Bar for a chic floral arrangi
 ng workshop! Grab your bestie or beau for some fresh flowers and fun! Lear
 n the art of floral design while you enjoy great drinks and food from Paes
 an.
CATEGORIES:Entertaining
LOCATION:Paesan Kitchen\, 1701 Dock St \, Tacoma\, WA\, 98402\, United Stat
 es
X-APPLE-STRUCTURED-LOCATION;VALUE=URI;X-ADDRESS=1701 Dock St \, Tacoma\, WA
 \, 98402\, United States;X-APPLE-RADIUS=100;X-TITLE=Paesan Kitchen:geo:0,0
END:VEVENT
BEGIN:VTIMEZONE
TZID:America/Los_Angeles
X-LIC-LOCATION:America/Los_Angeles
BEGIN:STANDARD
DTSTART:20171105T010000
TZOFFSETFROM:-0700
TZOFFSETTO:-0800
TZNAME:PST
END:STANDARD
END:VTIMEZONE
END:VCALENDAR