BEGIN:VCALENDAR
VERSION:2.0
PRODID:-//wp-events-plugin.com//7.2.3.1//EN
TZID:America/Los_Angeles
X-WR-TIMEZONE:America/Los_Angeles
BEGIN:VEVENT
UID:3384@experiencetacoma.com
DTSTART;TZID=America/Los_Angeles:20171111T100000
DTEND;TZID=America/Los_Angeles:20171111T170000
DTSTAMP:20170922T224941Z
URL:https://experiencetacoma.com/events/museum-fun-days-veterans-day/
SUMMARY:Museum Fun Days - Veteran's Day
DESCRIPTION:Veteran's Day | November 11\nThe Children’s Museum of Tacoma 
 gives thanks to the United States service men and women. Join us in honori
 ng our military veterans by coming dressed in red\, white and blue.
CATEGORIES:Family Friendly
LOCATION:Children's Museum of Tacoma\, 1501 Pacific Avenue\, Tacoma\, Washi
 ngton\, 98402\, United States
GEO:47.24910149999999;-122.43748060000001
X-APPLE-STRUCTURED-LOCATION;VALUE=URI;X-ADDRESS=1501 Pacific Avenue\, Tacom
 a\, Washington\, 98402\, United States;X-APPLE-RADIUS=100;X-TITLE=Children
 's Museum of Tacoma:geo:47.24910149999999,-122.43748060000001
END:VEVENT
BEGIN:VTIMEZONE
TZID:America/Los_Angeles
X-LIC-LOCATION:America/Los_Angeles
BEGIN:STANDARD
DTSTART:20171105T010000
TZOFFSETFROM:-0700
TZOFFSETTO:-0800
TZNAME:PST
END:STANDARD
END:VTIMEZONE
END:VCALENDAR