BEGIN:VCALENDAR
VERSION:2.0
PRODID:-//wp-events-plugin.com//7.2.3.1//EN
TZID:America/Los_Angeles
X-WR-TIMEZONE:America/Los_Angeles
BEGIN:VEVENT
UID:866@experiencetacoma.com
DTSTART;TZID=America/Los_Angeles:20150109T193000
DTEND;TZID=America/Los_Angeles:20150111T210000
DTSTAMP:20150106T235920Z
URL:https://experiencetacoma.com/events/monster-jam/
SUMMARY:Monster Jam
DESCRIPTION:The ultimate event in motor sports\, Monster Jam\, returns to t
 he Tacoma Dome\, January 9 – 11\, 2015 with six new trucks never feature
 d before in Tacoma\, Including Trouble Maker\, the all-new truck from Gig 
 Harbor resident driver Travis Groth. Also\, the son of Dennis Anderson\, c
 reator of the world finals champion Grave Digger\, Ryan Anderson\, will be
  driving in Tacoma with the all new Son-uva Digger. Info:http://www.Monste
 rJam.com
LOCATION:Tacoma Dome\, 2727 E D St \, Tacoma\, Washington\, 98421\, United 
 States
GEO:47.23634;-122.42683399999999
X-APPLE-STRUCTURED-LOCATION;VALUE=URI;X-ADDRESS=2727 E D St \, Tacoma\, Was
 hington\, 98421\, United States;X-APPLE-RADIUS=100;X-TITLE=Tacoma Dome:geo
 :47.23634,-122.42683399999999
END:VEVENT
BEGIN:VTIMEZONE
TZID:America/Los_Angeles
X-LIC-LOCATION:America/Los_Angeles
BEGIN:STANDARD
DTSTART:20141102T010000
TZOFFSETFROM:-0700
TZOFFSETTO:-0800
TZNAME:PST
END:STANDARD
END:VTIMEZONE
END:VCALENDAR