BEGIN:VCALENDAR
VERSION:2.0
PRODID:-//wp-events-plugin.com//7.2.3.1//EN
TZID:America/Los_Angeles
X-WR-TIMEZONE:America/Los_Angeles
BEGIN:VEVENT
UID:2194@experiencetacoma.com
DTSTART;TZID=America/Los_Angeles:20160812T090000
DTEND;TZID=America/Los_Angeles:20160812T140000
DTSTAMP:20160811T222520Z
URL:https://experiencetacoma.com/events/marlenes-market-bike-drive-sidewal
 k-sale/
SUMMARY:Marlene's Market bike drive and sidewalk sale
DESCRIPTION:ALAFFIA BIKE DRIVE\n \n\n\n\nDonate your unused adult or child
 ’s bicycle to help children in Togo\, West Africa get to school! Look fo
 r the Alaffia trailer in Marlene’s parking lot\, where the bikes will be
  collected. Alaffia is a fair trade company specializing in body care prod
 ucts containing shea butter from Togo.\n\nTacoma\nFriday\, August 12\n10 a
 m – 2 pm\nCheck it out on Facebook!\n\n\nMarlene’s Annual Sidewalk Sal
 e\n \n\n\nFriday\, August 12\, 2016\n9 am until it’s gone!\nJoin us in b
 oth stores for discounts\, food and giveaways!\n\n\n
LOCATION:Marlenes Market\, 2951 S. 38th St.\, Tacoma\, United States
GEO:47.2229795;-122.47608230000003
X-APPLE-STRUCTURED-LOCATION;VALUE=URI;X-ADDRESS=2951 S. 38th St.\, Tacoma\,
  United States;X-APPLE-RADIUS=100;X-TITLE=Marlenes Market:geo:47.2229795,-
 122.47608230000003
END:VEVENT
BEGIN:VTIMEZONE
TZID:America/Los_Angeles
X-LIC-LOCATION:America/Los_Angeles
BEGIN:DAYLIGHT
DTSTART:20160313T030000
TZOFFSETFROM:-0800
TZOFFSETTO:-0700
TZNAME:PDT
END:DAYLIGHT
END:VTIMEZONE
END:VCALENDAR