BEGIN:VCALENDAR
VERSION:2.0
PRODID:-//wp-events-plugin.com//7.2.3.1//EN
TZID:America/Los_Angeles
X-WR-TIMEZONE:America/Los_Angeles
BEGIN:VEVENT
UID:971@experiencetacoma.com
DTSTART;TZID=America/Los_Angeles;VALUE=DATE:20150214
DTEND;TZID=America/Los_Angeles;VALUE=DATE:20150216
DTSTAMP:20150119T231614Z
URL:https://experiencetacoma.com/events/love-zoo/
SUMMARY:Love at the Zoo
DESCRIPTION:Feel the love as Zoo animals enjoy heart-shaped treats and enri
 chments. Info:http://www.pdza.org
LOCATION:Point Defiance Zoo and Aquarium\, 5400 N. Pearl St.\, Tacoma\, WA\
 , 98407\, United States
GEO:47.306735;-122.51908100000003
X-APPLE-STRUCTURED-LOCATION;VALUE=URI;X-ADDRESS=5400 N. Pearl St.\, Tacoma\
 , WA\, 98407\, United States;X-APPLE-RADIUS=100;X-TITLE=Point Defiance Zoo
  and Aquarium:geo:47.306735,-122.51908100000003
END:VEVENT
BEGIN:VTIMEZONE
TZID:America/Los_Angeles
X-LIC-LOCATION:America/Los_Angeles
BEGIN:STANDARD
DTSTART:20141102T010000
TZOFFSETFROM:-0700
TZOFFSETTO:-0800
TZNAME:PST
END:STANDARD
END:VTIMEZONE
END:VCALENDAR