BEGIN:VCALENDAR
VERSION:2.0
PRODID:-//wp-events-plugin.com//7.2.3.1//EN
TZID:America/Los_Angeles
X-WR-TIMEZONE:America/Los_Angeles
BEGIN:VEVENT
UID:2543@experiencetacoma.com
DTSTART;TZID=America/Los_Angeles:20161126T193000
DTEND;TZID=America/Los_Angeles:20161126T230000
DTSTAMP:20161121T222224Z
URL:https://experiencetacoma.com/events/live-music/
SUMMARY:Live Music
DESCRIPTION:The Dan Duval Good Vibes Trio featuring Vibraphone\, Sax &amp\;
  Bass\, Jazz &amp\; Blues\, Swing &amp\; Latin. For music clips\, visit ww
 w.danduvalvibes.com
CATEGORIES:Entertaining
LOCATION:G Donnalson's\, 3814 N 26th St \, Tacoma\, United States
X-APPLE-STRUCTURED-LOCATION;VALUE=URI;X-ADDRESS=3814 N 26th St \, Tacoma\, 
 United States;X-APPLE-RADIUS=100;X-TITLE=G Donnalson's:geo:0,0
END:VEVENT
BEGIN:VTIMEZONE
TZID:America/Los_Angeles
X-LIC-LOCATION:America/Los_Angeles
BEGIN:STANDARD
DTSTART:20161106T010000
TZOFFSETFROM:-0700
TZOFFSETTO:-0800
TZNAME:PST
END:STANDARD
END:VTIMEZONE
END:VCALENDAR