BEGIN:VCALENDAR
VERSION:2.0
PRODID:-//wp-events-plugin.com//7.2.3.1//EN
TZID:America/Los_Angeles
X-WR-TIMEZONE:America/Los_Angeles
BEGIN:VEVENT
UID:3491@experiencetacoma.com
DTSTART;TZID=America/Los_Angeles:20171221T180000
DTEND;TZID=America/Los_Angeles:20171221T200000
DTSTAMP:20171204T161722Z
URL:https://experiencetacoma.com/events/lettuce-part-7/
SUMMARY:Lettuce Part 7
DESCRIPTION:Feel the electricity of art as it is being made! Lettuce\, an i
 nnovative live art event\, will feature local artists as they create still
  lifes using various mediums\, all inspired by Two Centuries of American 
 Still-Life Painting: The Frank and Michelle Hevrdejs Collection. Experienc
 e the artists’ process and techniques\, meet the creators and hear their
  stories. Come curious\, leave inspired.\n\nSee what else is happening at 
 TAM this Free Third Thursday here.
CATEGORIES:Family Friendly
LOCATION:Tacoma Art Museum\, 1701 Pacific Ave\, Tacoma\, 98402\, United Sta
 tes
X-APPLE-STRUCTURED-LOCATION;VALUE=URI;X-ADDRESS=1701 Pacific Ave\, Tacoma\,
  98402\, United States;X-APPLE-RADIUS=100;X-TITLE=Tacoma Art Museum:geo:0,
 0
END:VEVENT
BEGIN:VTIMEZONE
TZID:America/Los_Angeles
X-LIC-LOCATION:America/Los_Angeles
BEGIN:STANDARD
DTSTART:20171105T010000
TZOFFSETFROM:-0700
TZOFFSETTO:-0800
TZNAME:PST
END:STANDARD
END:VTIMEZONE
END:VCALENDAR