BEGIN:VCALENDAR
VERSION:2.0
PRODID:-//wp-events-plugin.com//7.2.3.1//EN
TZID:America/Los_Angeles
X-WR-TIMEZONE:America/Los_Angeles
BEGIN:VEVENT
UID:4130@experiencetacoma.com
DTSTART;TZID=America/Los_Angeles:20191102T190000
DTEND;TZID=America/Los_Angeles:20191102T220000
DTSTAMP:20191021T200309Z
URL:https://experiencetacoma.com/events/laughing-mater-featuring-steph-tol
 ev-saturday-november-2nd/
SUMMARY:Laughing Mater Featuring Steph Tolev - Saturday November 2nd
DESCRIPTION:We're back with our November installment of Laughing Mater!\n\n
 Host:\nSam Ellefson\n\nSam started a comedy talk show at his university as
  a Freshman with no idea what he was doing. Since then\, we have been nomi
 nated for 2 Northwest Emmy awards (NATAS) and been a Finalist for a Nation
 al Pinnacle Award. He has worked with and written for individuals who have
  been on Pitch Perfect 2\, Broadway\, The Voice\, Atlanta\, and TED talks.
 \n\nFeaturing:\nMonisa Brown\n\nMonisa is the creator and co- producer of 
 QTPOC Is Not A Rapper\, a LGBTQIA+ and P.O.C focused curated comedy open-m
 ic and showcase. Monisa has appeared in Portland’s Black Comedy Festival
  and Seattle's Bumbershoot Festival.\n\nThomas Nichols\nDeadpan\, hilariou
 s\, and wise beyond his 28 years\, Nichols is a nationally touring comic w
 ho's been featured at Funniest Comic in Texas Competition\, Seattle Intern
 ational Competition and was a finalist at the New York Finger Lakes Festiv
 al and Denver Make Me Laugh Festival\n\nHeadlining:\nSteph Tolev\nSteph is
  a stand up and sketch comedian from Toronto\, Canada currently living in 
 LA. As a stand up\, Steph has done the prestigious Just For Laughs Comedy 
 Festival in Montreal four times\, three of which were taped for TV and air
  on the Comedy Network. She was recently named one of Comedy Central’s 
 “Up Next” comics to watch and co-wrote and co-starred in the Comedy Ce
 ntral web series ” Steph &amp\; Deb” with comedian Deb Digiovanni. Ste
 ph can also be seen in the Amazon show “Please Understand Me” produced
  by Sarah Silverman and was featured in season two of “Corporate” on C
 omedy Central. Steph has won the Canadian Comedy Award for Best Female Sta
 nd up and was a finalist in Sirius XM’s next top comic.\n\nTickets in ad
 vance $20\nTickets at the door $25\nDoors at 7PM\nShow at 8PM\n18+\nSponso
 red by the best weed shop in town Mary Mart!
ATTACH;FMTTYPE=image/jpeg:https://experiencetacoma.com/wp-content/uploads/
 Steph.jpg
CATEGORIES:Entertaining
LOCATION:Alma Mater\, 1322 Fawcett Ave\, Tacoma\, Washington\, 98402\, Unit
 ed States
X-APPLE-STRUCTURED-LOCATION;VALUE=URI;X-ADDRESS=1322 Fawcett Ave\, Tacoma\,
  Washington\, 98402\, United States;X-APPLE-RADIUS=100;X-TITLE=Alma Mater:
 geo:0,0
END:VEVENT
BEGIN:VTIMEZONE
TZID:America/Los_Angeles
X-LIC-LOCATION:America/Los_Angeles
BEGIN:DAYLIGHT
DTSTART:20190310T030000
TZOFFSETFROM:-0800
TZOFFSETTO:-0700
TZNAME:PDT
END:DAYLIGHT
END:VTIMEZONE
END:VCALENDAR