BEGIN:VCALENDAR
VERSION:2.0
PRODID:-//wp-events-plugin.com//7.2.3.1//EN
TZID:America/Los_Angeles
X-WR-TIMEZONE:America/Los_Angeles
BEGIN:VEVENT
UID:1322@experiencetacoma.com
DTSTART;TZID=America/Los_Angeles:20150704T000000
DTEND;TZID=America/Los_Angeles:20150704T000000
DTSTAMP:20150625T172722Z
URL:https://experiencetacoma.com/events/independence-day-tacoma/
SUMMARY:Independence Day Tacoma
DESCRIPTION:A 5km race put on by the Tacoma City Running Club as a fundrais
 er for athletes trying to compete at the post-collegiate level. A screamin
 g fast flat and downhill course starting at N. 37th &amp\; N. Vassault Str
 eet in Tacoma and finishing at Point Ruston's Grand Plaza.  FASTEST 5K IN
  TACOMA!\n\n&nbsp\;\n\nOnline Registration Closes  at midnight on 7/1/201
 5
LOCATION:Independence Day 5k\, N 37th and Vassault St\, Tacoma\, United Sta
 tes
GEO:47.282438613129194;-122.52115631534423
X-APPLE-STRUCTURED-LOCATION;VALUE=URI;X-ADDRESS=N 37th and Vassault St\, Ta
 coma\, United States;X-APPLE-RADIUS=100;X-TITLE=Independence Day 5k:geo:47
 .282438613129194,-122.52115631534423
END:VEVENT
BEGIN:VTIMEZONE
TZID:America/Los_Angeles
X-LIC-LOCATION:America/Los_Angeles
BEGIN:DAYLIGHT
DTSTART:20150308T030000
TZOFFSETFROM:-0800
TZOFFSETTO:-0700
TZNAME:PDT
END:DAYLIGHT
END:VTIMEZONE
END:VCALENDAR