BEGIN:VCALENDAR
VERSION:2.0
PRODID:-//wp-events-plugin.com//7.2.3.1//EN
TZID:America/Los_Angeles
X-WR-TIMEZONE:America/Los_Angeles
BEGIN:VEVENT
UID:1859@experiencetacoma.com
DTSTART;TZID=America/Los_Angeles:20160715T210000
DTEND;TZID=America/Los_Angeles:20160715T233000
DTSTAMP:20160616T004957Z
URL:https://experiencetacoma.com/events/improv-one-acts-2016-07-15/
SUMMARY:Improv One Acts
DESCRIPTION:Muh Grog Zoo. Scriptless and fearless.\n$8 for you - $10 for t
 wo\nTickets at the door\, or online.
LOCATION:Muh Grog Zoo\, 924 Broadway\, Tacoma\, United States
GEO:47.2543713;-122.44085259999997
X-APPLE-STRUCTURED-LOCATION;VALUE=URI;X-ADDRESS=924 Broadway\, Tacoma\, Uni
 ted States;X-APPLE-RADIUS=100;X-TITLE=Muh Grog Zoo:geo:47.2543713,-122.440
 85259999997
END:VEVENT
BEGIN:VTIMEZONE
TZID:America/Los_Angeles
X-LIC-LOCATION:America/Los_Angeles
BEGIN:DAYLIGHT
DTSTART:20160313T030000
TZOFFSETFROM:-0800
TZOFFSETTO:-0700
TZNAME:PDT
END:DAYLIGHT
END:VTIMEZONE
END:VCALENDAR