BEGIN:VCALENDAR
VERSION:2.0
PRODID:-//wp-events-plugin.com//7.2.3.1//EN
TZID:America/Los_Angeles
X-WR-TIMEZONE:America/Los_Angeles
BEGIN:VEVENT
UID:3372@experiencetacoma.com
DTSTART;TZID=America/Los_Angeles:20170909T130000
DTEND;TZID=America/Los_Angeles:20170909T140000
DTSTAMP:20170908T235602Z
URL:https://experiencetacoma.com/events/ikebana-megumi-conservatory/
SUMMARY:IKEBANA BY MEGUMI AT THE CONSERVATORY
DESCRIPTION:Megumi Schacher will share the history of Ikebana. The Sogetsu 
 School of Ikebana\, founded in 1927\, has its roots in the ancient art of 
 Japanese flower arrangement. Their philosophy is that the basic rules and 
 techniques of ikebana are the foundation for a lifetime of creative artist
 ic expression that can be practiced by anyone\, anywhere\, using any plant
  materials. Students are encouraged to be individualistic and imaginative\
 , while working within a framework that respects the relationships between
  space\, line\, depth\, movement\, color\, form and balance. Their ikebana
  creations are meant to enrich both the creator and the viewer.\nMegumi is
  a member of the Seattle branch of the Sogetsu School of Ikebana and a cer
 tified instructor.\n$3 suggested donation\n\n
CATEGORIES:Charitable
LOCATION:WW Seymour Botanical Conservatory\, 316 South G St.\, Tacoma\, Uni
 ted States
X-APPLE-STRUCTURED-LOCATION;VALUE=URI;X-ADDRESS=316 South G St.\, Tacoma\, 
 United States;X-APPLE-RADIUS=100;X-TITLE=WW Seymour Botanical Conservatory
 :geo:0,0
END:VEVENT
BEGIN:VTIMEZONE
TZID:America/Los_Angeles
X-LIC-LOCATION:America/Los_Angeles
BEGIN:DAYLIGHT
DTSTART:20170312T030000
TZOFFSETFROM:-0800
TZOFFSETTO:-0700
TZNAME:PDT
END:DAYLIGHT
END:VTIMEZONE
END:VCALENDAR