BEGIN:VCALENDAR
VERSION:2.0
PRODID:-//wp-events-plugin.com//7.2.3.1//EN
TZID:America/Los_Angeles
X-WR-TIMEZONE:America/Los_Angeles
BEGIN:VEVENT
UID:3262@experiencetacoma.com
DTSTART;TZID=America/Los_Angeles:20170819T130000
DTEND;TZID=America/Los_Angeles:20170819T150000
DTSTAMP:20170705T215835Z
URL:https://experiencetacoma.com/events/hug-grub-food-share-2017-08-19/
SUMMARY:Hug Grub Food Share
DESCRIPTION:HUG Grub will be every Saturday from 1-3 pm.\nHUG Grub is where
  Hilltop Urban Gardens shares the produce we've been growing with the comm
 unity. In return the community shares something of value with us\, their f
 amilies\, their neighbors\, or their community!\n\n
CATEGORIES:Family Friendly,Free,Tasty
LOCATION:Hilltop Urban Gardens\,  S. 19th &amp\; S. Ainsworth\, Tacoma\, Un
 ited States
X-APPLE-STRUCTURED-LOCATION;VALUE=URI;X-ADDRESS= S. 19th & S. Ainsworth\, T
 acoma\, United States;X-APPLE-RADIUS=100;X-TITLE=Hilltop Urban Gardens:geo
 :0,0
END:VEVENT
BEGIN:VTIMEZONE
TZID:America/Los_Angeles
X-LIC-LOCATION:America/Los_Angeles
BEGIN:DAYLIGHT
DTSTART:20170312T030000
TZOFFSETFROM:-0800
TZOFFSETTO:-0700
TZNAME:PDT
END:DAYLIGHT
END:VTIMEZONE
END:VCALENDAR