BEGIN:VCALENDAR
VERSION:2.0
PRODID:-//wp-events-plugin.com//7.2.3.1//EN
TZID:America/Los_Angeles
X-WR-TIMEZONE:America/Los_Angeles
BEGIN:VEVENT
UID:2621@experiencetacoma.com
DTSTART;TZID=America/Los_Angeles:20171019T100000
DTEND;TZID=America/Los_Angeles:20171022T200000
DTSTAMP:20170119T204400Z
URL:https://experiencetacoma.com/events/holiday-food-gift-festival/
SUMMARY:Holiday Food & Gift Festival
DESCRIPTION:Tacoma Holiday Food &amp\; Gift Festival – 35th annual\n\nTac
 oma Dome\n\nOctober 19-22\, 2017\n\nThurs – Sat 10am-8pm and Sun 10am-6p
 m\n\n&nbsp\;\n\n&nbsp\;\n\nStart the holidays off with this most anticipat
 ed event of the season. Enjoy festive entertainment\, Cooking for the Holi
 days culinary demonstrations\, an Artists in Action area &amp\; have your 
 picture taken with Santa under the 45' hanging Christmas tree.  You'll fi
 nd 550 booths of art\, handmade items\, specialty foods\, holiday decor\, 
 &amp\; so much more!  Pay once\, return for free all 4 days!\n\n
CATEGORIES:Family Friendly
LOCATION:Tacoma Dome\, 2727 E D St \, Tacoma\, Washington\, 98421\, United 
 States
GEO:47.23634;-122.42683399999999
X-APPLE-STRUCTURED-LOCATION;VALUE=URI;X-ADDRESS=2727 E D St \, Tacoma\, Was
 hington\, 98421\, United States;X-APPLE-RADIUS=100;X-TITLE=Tacoma Dome:geo
 :47.23634,-122.42683399999999
END:VEVENT
BEGIN:VTIMEZONE
TZID:America/Los_Angeles
X-LIC-LOCATION:America/Los_Angeles
BEGIN:DAYLIGHT
DTSTART:20170312T030000
TZOFFSETFROM:-0800
TZOFFSETTO:-0700
TZNAME:PDT
END:DAYLIGHT
END:VTIMEZONE
END:VCALENDAR