BEGIN:VCALENDAR
VERSION:2.0
PRODID:-//wp-events-plugin.com//7.2.3.1//EN
TZID:America/Los_Angeles
X-WR-TIMEZONE:America/Los_Angeles
BEGIN:VEVENT
UID:3469@experiencetacoma.com
DTSTART;TZID=America/Los_Angeles:20171118T110000
DTEND;TZID=America/Los_Angeles:20171119T160000
DTSTAMP:20171115T175354Z
URL:https://experiencetacoma.com/events/holiday-artists-craft-day/
SUMMARY:Holiday Artists Craft Day
DESCRIPTION:Tacoma Is For Lovers and King's Books present a special two
 -day Artist Craft Fair with different artists each day! A multitude of ar
 tists will have tables featuring arts\, crafts\, jewelry\, letterpress pri
 nts\, and more at the King's Books and Destiny City Comics! Your purchase
 s help support artists in Tacoma!\n\nTacoma Is For Lovers is a community-
 based organization that annually produces Artist Craft Fairs in order to p
 romote the visibility of local artists and encourages reuse\, intentionali
 ty\, sustainability and high craft.
CATEGORIES:Family Friendly,Free
LOCATION:King's Books\, 218 St Helens Ave\, Tacoma\, WA\, 98402\, United St
 ates
X-APPLE-STRUCTURED-LOCATION;VALUE=URI;X-ADDRESS=218 St Helens Ave\, Tacoma\
 , WA\, 98402\, United States;X-APPLE-RADIUS=100;X-TITLE=King's Books:geo:0
 ,0
END:VEVENT
BEGIN:VTIMEZONE
TZID:America/Los_Angeles
X-LIC-LOCATION:America/Los_Angeles
BEGIN:STANDARD
DTSTART:20171105T010000
TZOFFSETFROM:-0700
TZOFFSETTO:-0800
TZNAME:PST
END:STANDARD
END:VTIMEZONE
END:VCALENDAR