BEGIN:VCALENDAR
VERSION:2.0
PRODID:-//wp-events-plugin.com//7.2.3.1//EN
TZID:America/Los_Angeles
X-WR-TIMEZONE:America/Los_Angeles
BEGIN:VEVENT
UID:3453@experiencetacoma.com
DTSTART;TZID=America/Los_Angeles:20171202T110000
DTEND;TZID=America/Los_Angeles:20171202T130000
DTSTAMP:20171108T180629Z
URL:https://experiencetacoma.com/events/hilltop-artists-winter-glass-sale-
 2/
SUMMARY:Hilltop Artists Winter Glass Sale
DESCRIPTION:The Hilltop Artists Winter Glass Sale promises a flurry of oppo
 rtunities to find the perfect gift and support our youth. All proceeds go 
 back into our tuition-free glass art programs! When you purchase the beaut
 iful glass art created by our students\, every penny goes back into our pr
 ograms so that no student is ever turned away because of inability to pay.
 \n\n2017 marks the launch of our annual signature ornament! Designed by a 
 student\, it features a festive swirl of Hilltop Artists’ colors: teal\,
  orange\, and white. There are limited quantities of this special ornament
 .\n\nShorten your wait in line! Arrive at 9am\, pick up a timed ticket\, a
 nd return at your appointed entry time. No timed ticket necessary after 11
 :30am\n\nFor more information\, visit our website hilltopartists.org\, cal
 l 253.571.7670 or e-mail info@hilltopartists.org\n\n------------------\nHi
 lltop Artists connects young people from diverse cultural and economic bac
 kgrounds to better futures. Through glass arts instruction and related art
 s training we promote the discovery of creativity and self-expression\, in
 creased academic and social skills\, and youth leadership.
ATTACH;FMTTYPE=image/jpeg:https://experiencetacoma.com/wp-content/uploads/
 HA_EmailInvite_For-Ellen-Copy.jpg
CATEGORIES:Charitable
LOCATION:Jason Lee Middle School\, 602 N. Sprague Ave\, Tacoma\, WA\, 98403
 \, United States
X-APPLE-STRUCTURED-LOCATION;VALUE=URI;X-ADDRESS=602 N. Sprague Ave\, Tacoma
 \, WA\, 98403\, United States;X-APPLE-RADIUS=100;X-TITLE=Jason Lee Middle 
 School:geo:0,0
END:VEVENT
BEGIN:VTIMEZONE
TZID:America/Los_Angeles
X-LIC-LOCATION:America/Los_Angeles
BEGIN:STANDARD
DTSTART:20171105T010000
TZOFFSETFROM:-0700
TZOFFSETTO:-0800
TZNAME:PST
END:STANDARD
END:VTIMEZONE
END:VCALENDAR