BEGIN:VCALENDAR
VERSION:2.0
PRODID:-//wp-events-plugin.com//7.2.3.1//EN
TZID:America/Los_Angeles
X-WR-TIMEZONE:America/Los_Angeles
BEGIN:VEVENT
UID:3339@experiencetacoma.com
DTSTART;TZID=America/Los_Angeles:20170827T110000
DTEND;TZID=America/Los_Angeles:20170827T180000
DTSTAMP:20170824T202423Z
URL:https://experiencetacoma.com/events/hello-cupcakes-10th-birthday/
SUMMARY:Hello\, Cupcake's 10th birthday!
DESCRIPTION:\nPlease join us on Sunday\, August 27 to celebrate hello\, cup
 cake's 10th birthday! Here's what you can look forward to:\n\n-FREE confet
 ti minis!*\n\n-Throwback pricing!* All regular size cupcakes will be $1.95
  each or $22 per dozen\, the same prices they were on our opening day in 2
 007! Minis will also be $1 each!\n\n-A chance to find a golden ticket* bak
 ed inside your cupcake--good for one dozen cupcakes every month for a year
 !\n\n-Fun photo ops and chances to win prizes!\n\nWe truly appreciate your
  support over the past 10 years and can't wait to celebrate with you!\n\n*
 Conditions:\n-One free confetti mini per person\, while supplies last. You
  must be present to receive a free mini!\n-Throwback pricing applies to wa
 lk-in orders only (does not apply to pre-ordered cupcakes).\n-One golden t
 icket will be baked inside a cupcake on August 27\; the person who finds i
 t must either bring the ticket into the shop or send a photo of it to bake
 r@hello-cupcake.com to claim the prize.
CATEGORIES:Family Friendly,Free,Tasty
LOCATION:Hello\, Cupcake\, 1740 Pacific Ave\, Tacoma\, United States
X-APPLE-STRUCTURED-LOCATION;VALUE=URI;X-ADDRESS=1740 Pacific Ave\, Tacoma\,
  United States;X-APPLE-RADIUS=100;X-TITLE=Hello\, Cupcake:geo:0,0
END:VEVENT
BEGIN:VTIMEZONE
TZID:America/Los_Angeles
X-LIC-LOCATION:America/Los_Angeles
BEGIN:DAYLIGHT
DTSTART:20170312T030000
TZOFFSETFROM:-0800
TZOFFSETTO:-0700
TZNAME:PDT
END:DAYLIGHT
END:VTIMEZONE
END:VCALENDAR