BEGIN:VCALENDAR
VERSION:2.0
PRODID:-//wp-events-plugin.com//7.2.3.1//EN
TZID:America/Los_Angeles
X-WR-TIMEZONE:America/Los_Angeles
BEGIN:VEVENT
UID:3025@experiencetacoma.com
DTSTART;TZID=America/Los_Angeles:20170429T100000
DTEND;TZID=America/Los_Angeles:20170429T130000
DTSTAMP:20170412T160807Z
URL:https://experiencetacoma.com/events/healthy-kids-day/
SUMMARY:Healthy Kids Day
DESCRIPTION:Nothing charges up kids like summer—and HEALTHY KIDS DAY® is
  the Y’s official start to the best summer ever! So make sure your kids 
 get the most they can out of this summer…in spirit\, mind\, and body. Ev
 eryone is welcome to enjoy the fun. Let’s charge into the best summer ev
 er together!\nActivities will include:\n• Register for summer programs\n
 • Group Exercise demonstrations\n• Overview of Teen Late Nite and Aqua
 tics Programs\n• Diabetes Prevention and Blood Pressure Education provid
 ed by MultiCare\n• Local Youth Arts Projects\n• Healthy snacks\n• Co
 ntests and prizes\n• Join the Y - 100% off joining fees\n\nwebsite
ATTACH;FMTTYPE=image/jpeg:https://experiencetacoma.com/wp-content/uploads/
 hkd-17-hero-min-1.jpg
CATEGORIES:Entertaining,Family Friendly,Free
LOCATION:Tacoma Art Museum\, 1701 Pacific Ave\, Tacoma\, WA\, 98402\, Pacif
 ic Avenue\, United States
GEO:47.2477919;-122.436532
X-APPLE-STRUCTURED-LOCATION;VALUE=URI;X-ADDRESS=1701 Pacific Ave\, Tacoma\,
  WA\, 98402\, Pacific Avenue\, United States;X-APPLE-RADIUS=100;X-TITLE=Ta
 coma Art Museum:geo:47.2477919,-122.436532
END:VEVENT
BEGIN:VTIMEZONE
TZID:America/Los_Angeles
X-LIC-LOCATION:America/Los_Angeles
BEGIN:DAYLIGHT
DTSTART:20170312T030000
TZOFFSETFROM:-0800
TZOFFSETTO:-0700
TZNAME:PDT
END:DAYLIGHT
END:VTIMEZONE
END:VCALENDAR