BEGIN:VCALENDAR
VERSION:2.0
PRODID:-//wp-events-plugin.com//7.2.3.1//EN
TZID:America/Los_Angeles
X-WR-TIMEZONE:America/Los_Angeles
BEGIN:VEVENT
UID:3466@experiencetacoma.com
DTSTART;TZID=America/Los_Angeles;VALUE=DATE:20171128
DTEND;TZID=America/Los_Angeles;VALUE=DATE:20171129
DTSTAMP:20171111T011104Z
URL:https://experiencetacoma.com/events/give-like-mountain/
SUMMARY:Give Like the Mountain is Out
DESCRIPTION:\n\nCan you believe it's already November?! This month\, South 
 Sound 100 Women is raising awareness for Giving Tuesday. Giving Tuesday is
  the international day of giving that occurs on Tuesday after Thanksgiving
 —this year on November 28th.\nWe want to encourage everyone to support l
 ocal nonprofits working to build a stronger South Sound.\n\nIn your own po
 st\, feel free to share who will you be supporting this Giving Tuesday. Us
 e the hashtags #GivingTuesdaySouthSound and #GiveLikeTheMountainIsOut and 
 make sure to tag us!
CATEGORIES:Charitable
END:VEVENT
BEGIN:VTIMEZONE
TZID:America/Los_Angeles
X-LIC-LOCATION:America/Los_Angeles
BEGIN:STANDARD
DTSTART:20171105T010000
TZOFFSETFROM:-0700
TZOFFSETTO:-0800
TZNAME:PST
END:STANDARD
END:VTIMEZONE
END:VCALENDAR