BEGIN:VCALENDAR
VERSION:2.0
PRODID:-//wp-events-plugin.com//7.2.3.1//EN
TZID:America/Los_Angeles
X-WR-TIMEZONE:America/Los_Angeles
BEGIN:VEVENT
UID:1638@experiencetacoma.com
DTSTART;TZID=America/Los_Angeles:20160704T000000
DTEND;TZID=America/Los_Angeles:20160704T170000
DTSTAMP:20160608T002117Z
URL:https://experiencetacoma.com/events/free-swim-kandle-park/
SUMMARY:FREE pool party
DESCRIPTION:In light of America's Freedom\, both Kandle Park and Stewart He
 ights open their outdoor public pools for free admission on July 4th/cust
 omer appreciation day.\n\nKandle Pool\n5302 N. 26th St.\n\nStewart Heights
  Pool\n402 E. 56th St.\n\nLimited to maximum capacity.
LOCATION:Stewart Heights Park\, 402 E. 56th St.\, Tacoma\, WA\, 98404\, Uni
 ted States
GEO:47.2048135;-122.42443159999999
X-APPLE-STRUCTURED-LOCATION;VALUE=URI;X-ADDRESS=402 E. 56th St.\, Tacoma\, 
 WA\, 98404\, United States;X-APPLE-RADIUS=100;X-TITLE=Stewart Heights Park
 :geo:47.2048135,-122.42443159999999
END:VEVENT
BEGIN:VTIMEZONE
TZID:America/Los_Angeles
X-LIC-LOCATION:America/Los_Angeles
BEGIN:DAYLIGHT
DTSTART:20160313T030000
TZOFFSETFROM:-0800
TZOFFSETTO:-0700
TZNAME:PDT
END:DAYLIGHT
END:VTIMEZONE
END:VCALENDAR