BEGIN:VCALENDAR
VERSION:2.0
PRODID:-//wp-events-plugin.com//7.2.3.1//EN
TZID:America/Los_Angeles
X-WR-TIMEZONE:America/Los_Angeles
BEGIN:VEVENT
UID:3475@experiencetacoma.com
DTSTART;TZID=America/Los_Angeles:20171118T110000
DTEND;TZID=America/Los_Angeles:20171118T160000
DTSTAMP:20171116T233329Z
URL:https://experiencetacoma.com/events/family-steam-day/
SUMMARY:Family STEAM Day
DESCRIPTION:Design\, build\, tinker and learn together as you explore the w
 orld of automobiles and its relation to science\, technology\, engineering
 \, art and math. Activities available in the Education Studio and Family Z
 one
CATEGORIES:Family Friendly
LOCATION:LeMay – America's Car Museum\, 2702 East D St\, Tacoma\, Wa\, Un
 ited States
X-APPLE-STRUCTURED-LOCATION;VALUE=URI;X-ADDRESS=2702 East D St\, Tacoma\, W
 a\, United States;X-APPLE-RADIUS=100;X-TITLE=LeMay – America's Car Museu
 m:geo:0,0
END:VEVENT
BEGIN:VTIMEZONE
TZID:America/Los_Angeles
X-LIC-LOCATION:America/Los_Angeles
BEGIN:STANDARD
DTSTART:20171105T010000
TZOFFSETFROM:-0700
TZOFFSETTO:-0800
TZNAME:PST
END:STANDARD
END:VTIMEZONE
END:VCALENDAR