BEGIN:VCALENDAR
VERSION:2.0
PRODID:-//wp-events-plugin.com//7.2.3.1//EN
TZID:America/Los_Angeles
X-WR-TIMEZONE:America/Los_Angeles
BEGIN:VEVENT
UID:3253@experiencetacoma.com
DTSTART;TZID=America/Los_Angeles:20170714T190000
DTEND;TZID=America/Los_Angeles:20170714T235900
DTSTAMP:20170705T215522Z
URL:https://experiencetacoma.com/events/family-campout/
SUMMARY:Family Campout
DESCRIPTION:\n\nWe’re opening up Owen Beach for camping this summer! Join
  us for three Friday nights under the stars with your family and friends.\
 n\n 	July 14\n 	July 28\n 	August 18\n\nThis unique experience also includ
 es tent space\, evening snack\, crafts\, Ranger-led activity and a sunrise
  breakfast! You will need to bring tent\, sleeping bag\, toiletries\, camp
  chair\, flashlight\, bug spray. Please leave your pets at home.\n\nSorry\
 , no member discounts or financial assistance available. Registration dead
 line for each campout is 4:00 pm on the Wednesday before the event.\n\nDue
  to purchasing deadlines\, no refunds will be given if withdrawal is not b
 y 3:30 pm the Wednesday before the campout.\n\nSchedule:\n\n\n\n7-8:30 pm\
 n8:30-9:30 pm\n9:30-11 pm\n11 pm\n6-8 am\n8:30 am\nCheck-in\, tent set-up\
 nEvening snacks\, Ranger-led activity\nGames\, free time to explore\nLight
 s out!\nSunrise breakfast\, tent breakdown\nLoad out\n\n\n\n$50 for 4 pers
 on tent space\n$75 for a 6 person space\n$100 for an 8 person space\n\nSig
 n up online or call Tacoma Nature Center (253) 591-6439.
CATEGORIES:Family Friendly
LOCATION:Owen Beach\, Point Defiance\, Tacoma\, United States
GEO:47.30555;-122.51424199999997
X-APPLE-STRUCTURED-LOCATION;VALUE=URI;X-ADDRESS=Point Defiance\, Tacoma\, U
 nited States;X-APPLE-RADIUS=100;X-TITLE=Owen Beach:geo:47.30555,-122.51424
 199999997
END:VEVENT
BEGIN:VTIMEZONE
TZID:America/Los_Angeles
X-LIC-LOCATION:America/Los_Angeles
BEGIN:DAYLIGHT
DTSTART:20170312T030000
TZOFFSETFROM:-0800
TZOFFSETTO:-0700
TZNAME:PDT
END:DAYLIGHT
END:VTIMEZONE
END:VCALENDAR