BEGIN:VCALENDAR
VERSION:2.0
PRODID:-//wp-events-plugin.com//7.2.3.1//EN
TZID:America/Los_Angeles
X-WR-TIMEZONE:America/Los_Angeles
BEGIN:VEVENT
UID:1269@experiencetacoma.com
DTSTART;TZID=America/Los_Angeles:20150630T080000
DTEND;TZID=America/Los_Angeles:20150630T120000
DTSTAMP:20150610T190910Z
URL:https://experiencetacoma.com/events/experience-tacoma-seminar-tacomast
 rong-infusing-growth/
SUMMARY:Experience Tacoma Seminar - #TacomaStrong - Infusing Growth
DESCRIPTION:Experience Tacoma is a non-profit dedicated to bringing togethe
 r all of Tacoma’s business districts under one umbrella to work toward c
 ommon goals. The event works to promote\, organize\, and advocate for Taco
 ma businesses\, allowing the local economy to develop through the business
 es uniting and sponsoring networking events that help us learn about the l
 ocal area and get to know our neighbors.
LOCATION:Mountaineers Building\, 2302 N 30th St\, Tacoma\, Washington\, 984
 03\, United States
GEO:47.274486;-122.46721100000002
X-APPLE-STRUCTURED-LOCATION;VALUE=URI;X-ADDRESS=2302 N 30th St\, Tacoma\, W
 ashington\, 98403\, United States;X-APPLE-RADIUS=100;X-TITLE=Mountaineers 
 Building:geo:47.274486,-122.46721100000002
END:VEVENT
BEGIN:VTIMEZONE
TZID:America/Los_Angeles
X-LIC-LOCATION:America/Los_Angeles
BEGIN:DAYLIGHT
DTSTART:20150308T030000
TZOFFSETFROM:-0800
TZOFFSETTO:-0700
TZNAME:PDT
END:DAYLIGHT
END:VTIMEZONE
END:VCALENDAR