BEGIN:VCALENDAR
VERSION:2.0
PRODID:-//wp-events-plugin.com//7.2.3.1//EN
TZID:America/Los_Angeles
X-WR-TIMEZONE:America/Los_Angeles
BEGIN:VEVENT
UID:3290@experiencetacoma.com
DTSTART;TZID=America/Los_Angeles:20170729T120000
DTEND;TZID=America/Los_Angeles:20170730T190000
DTSTAMP:20170728T233216Z
URL:https://experiencetacoma.com/events/ethnic-fest-2/
SUMMARY:Ethnic Fest
DESCRIPTION:\n\n \n\n \n\n\nSince 1986 Ethnic Fest has grown to become th
 e largest celebration of culture and community in Tacoma. Voted the best f
 estival of the South Sound\; this year Ethnic Fest takes place Saturday-S
 unday\, July 29-30\, from Noon to 7:00pm at historic Wright Park in Tacom
 a\, WA. This family-friendly\, free festival has grown in size and hosts K
 id’s Zones\, multiple entertainment stages\, as well as numerous specia
 lty arts &amp\; crafts\, food and informational vendors. You are invited 
 to apply to participate in Ethnic Fest and join us in celebrating 30 year
 s of culture\, community and festivities.\n\n
CATEGORIES:Entertaining,Family Friendly,Free,Tasty
LOCATION:Wright Park\, 316 S. G St\, Tacoma\, Washington\, 98405\, United S
 tates
GEO:47.2602059;-122.449096
X-APPLE-STRUCTURED-LOCATION;VALUE=URI;X-ADDRESS=316 S. G St\, Tacoma\, Wash
 ington\, 98405\, United States;X-APPLE-RADIUS=100;X-TITLE=Wright Park:geo:
 47.2602059,-122.449096
END:VEVENT
BEGIN:VTIMEZONE
TZID:America/Los_Angeles
X-LIC-LOCATION:America/Los_Angeles
BEGIN:DAYLIGHT
DTSTART:20170312T030000
TZOFFSETFROM:-0800
TZOFFSETTO:-0700
TZNAME:PDT
END:DAYLIGHT
END:VTIMEZONE
END:VCALENDAR