BEGIN:VCALENDAR
VERSION:2.0
PRODID:-//wp-events-plugin.com//7.2.3.1//EN
TZID:America/Los_Angeles
X-WR-TIMEZONE:America/Los_Angeles
BEGIN:VEVENT
UID:1662@experiencetacoma.com
DTSTART;TZID=America/Los_Angeles:20160527T193000
DTEND;TZID=America/Los_Angeles:20160527T220000
DTSTAMP:20160614T224303Z
URL:https://experiencetacoma.com/events/emerald-city-music-back-bach/
SUMMARY:Emerald City Music: Back to Bach
DESCRIPTION:Emerald City Music is a new place for music lovers to discover 
 classical music together. Lively\, social concerts feature the world's bes
 t classical soloists and chamber musicians right here in Tacoma. Get close
 r to the music than ever before...\nThe legacy of Johann Sebastian Bach ha
 s shaped the course Western music time and time again. “Back to Bach” 
 examines the Baroque master’s profound influence through the lens of wha
 t came after his death two and a half centuries ago\, from percussion to p
 iano and everything in between.\nWhat you will hear:\nNORGARD – The Wel
 l-Tempered Percussion\nBACH – Double from Partita no. 1 for Solo Violin
 \nFRANCIS – Sillage for Violin and Piano\nBACH/BUSONI – Chaconne for
  Solo Piano\nKOPPEL – Toccata for Vibraphone and Marimba\nSCHUMANN –
  Piano Quartet\nArtists: Scott St. John\, violin\; Matthew Lipman\, viola
 \; Peter Wiley\, cello\; Hyeyeon Park\, piano\; Ian Rosenbaum\, Christophe
 r Froh\, percussion\nTickets and more information at: www.emeraldcitymusic
 .org/back-to-bach
ATTACH;FMTTYPE=image/jpeg:https://experiencetacoma.com/wp-content/uploads/
 Lipman-_-small.jpg
LOCATION:Lagerquist Concert Hall\, 868 Wheeler St S\, Tacoma\, WA\, 98444\,
  United States
GEO:47.146527;-122.44591200000002
X-APPLE-STRUCTURED-LOCATION;VALUE=URI;X-ADDRESS=868 Wheeler St S\, Tacoma\,
  WA\, 98444\, United States;X-APPLE-RADIUS=100;X-TITLE=Lagerquist Concert 
 Hall:geo:47.146527,-122.44591200000002
END:VEVENT
BEGIN:VTIMEZONE
TZID:America/Los_Angeles
X-LIC-LOCATION:America/Los_Angeles
BEGIN:DAYLIGHT
DTSTART:20160313T030000
TZOFFSETFROM:-0800
TZOFFSETTO:-0700
TZNAME:PDT
END:DAYLIGHT
END:VTIMEZONE
END:VCALENDAR