BEGIN:VCALENDAR
VERSION:2.0
PRODID:-//wp-events-plugin.com//7.2.3.1//EN
TZID:America/Los_Angeles
X-WR-TIMEZONE:America/Los_Angeles
BEGIN:VEVENT
UID:3215@experiencetacoma.com
DTSTART;TZID=America/Los_Angeles:20170729T193000
DTEND;TZID=America/Los_Angeles:20170729T223000
DTSTAMP:20170609T212104Z
URL:https://experiencetacoma.com/events/ed-sheeran-tacoma-dome/
SUMMARY:Ed Sheeran at the Tacoma Dome
DESCRIPTION:\n\n&nbsp\;
CATEGORIES:Entertaining
LOCATION:Tacoma Dome\, 2727 E D St \, Tacoma\, Washington\, 98421\, United 
 States
GEO:47.23634;-122.42683399999999
X-APPLE-STRUCTURED-LOCATION;VALUE=URI;X-ADDRESS=2727 E D St \, Tacoma\, Was
 hington\, 98421\, United States;X-APPLE-RADIUS=100;X-TITLE=Tacoma Dome:geo
 :47.23634,-122.42683399999999
END:VEVENT
BEGIN:VTIMEZONE
TZID:America/Los_Angeles
X-LIC-LOCATION:America/Los_Angeles
BEGIN:DAYLIGHT
DTSTART:20170312T030000
TZOFFSETFROM:-0800
TZOFFSETTO:-0700
TZNAME:PDT
END:DAYLIGHT
END:VTIMEZONE
END:VCALENDAR