BEGIN:VCALENDAR
VERSION:2.0
PRODID:-//wp-events-plugin.com//7.2.3.1//EN
TZID:America/Los_Angeles
X-WR-TIMEZONE:America/Los_Angeles
BEGIN:VEVENT
UID:3358@experiencetacoma.com
DTSTART;TZID=America/Los_Angeles:20170923T140000
DTEND;TZID=America/Los_Angeles:20170923T160000
DTSTAMP:20170908T203013Z
URL:https://experiencetacoma.com/events/eastside-community-center-celebrat
 ion/
SUMMARY:Eastside Community Center Celebration
DESCRIPTION:That very large hole in the ground next to First Creek Middle S
 chool means construction of the new community center is on schedule! It’
 s fun to see the crews work on the foundation for what will be the city’
 s newest pool when it opens next year.\n\nPlease join us on Sept. 23 for a
  construction celebration. Bring your family and friends to enjoy:\n\nFami
 ly-friendly activities\nSports\nArts &amp\; crafts\nAnd other fun surprise
 s!\n\nThe fun happens at:\n\nFirst Creek Middle School...\n1801 E. 56th St
 \, Tacoma\, WA 98404\n\nLearn more about the project at www.ImagineEastsid
 e.org\n
CATEGORIES:Family Friendly,Free
LOCATION:First Creek Middle School\, 1801 E 56th St\, Tacoma\, United State
 s
X-APPLE-STRUCTURED-LOCATION;VALUE=URI;X-ADDRESS=1801 E 56th St\, Tacoma\, U
 nited States;X-APPLE-RADIUS=100;X-TITLE=First Creek Middle School:geo:0,0
END:VEVENT
BEGIN:VTIMEZONE
TZID:America/Los_Angeles
X-LIC-LOCATION:America/Los_Angeles
BEGIN:DAYLIGHT
DTSTART:20170312T030000
TZOFFSETFROM:-0800
TZOFFSETTO:-0700
TZNAME:PDT
END:DAYLIGHT
END:VTIMEZONE
END:VCALENDAR