BEGIN:VCALENDAR
VERSION:2.0
PRODID:-//wp-events-plugin.com//7.2.3.1//EN
TZID:America/Los_Angeles
X-WR-TIMEZONE:America/Los_Angeles
BEGIN:VEVENT
UID:1636@experiencetacoma.com
DTSTART;TZID=America/Los_Angeles;VALUE=DATE:20160618
DTEND;TZID=America/Los_Angeles;VALUE=DATE:20160619
DTSTAMP:20160607T234357Z
URL:https://experiencetacoma.com/events/draft-punk-festival/
SUMMARY:Draft Punk Festival
DESCRIPTION:Daft Punk + local brews = Draft Punk Festival at The Swiss in d
 owntown Tacoma.\n\nNo cover and all ages until 8 pm.
LOCATION:The Swiss\, 1904 Jefferson Ave\, Tacoma\, Washington\, 98402\, Uni
 ted States
GEO:47.24465;-122.43928900000003
X-APPLE-STRUCTURED-LOCATION;VALUE=URI;X-ADDRESS=1904 Jefferson Ave\, Tacoma
 \, Washington\, 98402\, United States;X-APPLE-RADIUS=100;X-TITLE=The Swiss
 :geo:47.24465,-122.43928900000003
END:VEVENT
BEGIN:VTIMEZONE
TZID:America/Los_Angeles
X-LIC-LOCATION:America/Los_Angeles
BEGIN:DAYLIGHT
DTSTART:20160313T030000
TZOFFSETFROM:-0800
TZOFFSETTO:-0700
TZNAME:PDT
END:DAYLIGHT
END:VTIMEZONE
END:VCALENDAR