BEGIN:VCALENDAR
VERSION:2.0
PRODID:-//wp-events-plugin.com//7.2.3.1//EN
TZID:America/Los_Angeles
X-WR-TIMEZONE:America/Los_Angeles
BEGIN:VEVENT
UID:2611@experiencetacoma.com
DTSTART;TZID=America/Los_Angeles:20161210T110000
DTEND;TZID=America/Los_Angeles:20161210T180000
DTSTAMP:20161209T205803Z
URL:https://experiencetacoma.com/events/dickens-festival/
SUMMARY:Dickens Festival
DESCRIPTION:
CATEGORIES:Entertaining,Family Friendly,Free
LOCATION:Stadium Thriftway\, 618 N 1st\, Tacoma\, United States
GEO:47.2636507;-122.44862979999999
X-APPLE-STRUCTURED-LOCATION;VALUE=URI;X-ADDRESS=618 N 1st\, Tacoma\, United
  States;X-APPLE-RADIUS=100;X-TITLE=Stadium Thriftway:geo:47.2636507,-122.4
 4862979999999
END:VEVENT
BEGIN:VTIMEZONE
TZID:America/Los_Angeles
X-LIC-LOCATION:America/Los_Angeles
BEGIN:STANDARD
DTSTART:20161106T010000
TZOFFSETFROM:-0700
TZOFFSETTO:-0800
TZNAME:PST
END:STANDARD
END:VTIMEZONE
END:VCALENDAR