BEGIN:VCALENDAR
VERSION:2.0
PRODID:-//wp-events-plugin.com//7.2.3.1//EN
TZID:America/Los_Angeles
X-WR-TIMEZONE:America/Los_Angeles
BEGIN:VEVENT
UID:2614@experiencetacoma.com
DTSTART;TZID=America/Los_Angeles:20161219T190000
DTEND;TZID=America/Los_Angeles:20161219T220000
DTSTAMP:20161217T234358Z
URL:https://experiencetacoma.com/events/creative-colloquy/
SUMMARY:Creative Colloquy
DESCRIPTION:We are closing out a rad year of literary shenanigans with a bi
 g finale!\n\nFirstly\, we will unveil a delightful matrimony of locally pe
 nned short stories and poems paired with thought provoking and colorful ar
 t throughout the pages of Creative Colloquy Volume Three.\n\nOur featured 
 line up will highlight a few of the works you can find within and include:
 \n\nChristina Butcher\nDaniel Person\nJenni Prange Boran\nJosh Kilen\n\nAn
 d a special bonus\, Washington state poet laureate\, Tod Marshall will pla
 y celebrity emcee and be performing some of his own pieces for us!...\n\nB
 ooks will be available for sale for $20 a piece and at a discounted price 
 when paired with Volumes One and Two.\n\nOpen mic to follow\, so bring you
 r words to share.\n&nbsp\;
CATEGORIES:Charitable,Entertaining,Family Friendly,Free
LOCATION:B Sharp Coffee House\, 706 Opera Alley\, Tacoma\, United States
X-APPLE-STRUCTURED-LOCATION;VALUE=URI;X-ADDRESS=706 Opera Alley\, Tacoma\, 
 United States;X-APPLE-RADIUS=100;X-TITLE=B Sharp Coffee House:geo:0,0
END:VEVENT
BEGIN:VTIMEZONE
TZID:America/Los_Angeles
X-LIC-LOCATION:America/Los_Angeles
BEGIN:STANDARD
DTSTART:20161106T010000
TZOFFSETFROM:-0700
TZOFFSETTO:-0800
TZNAME:PST
END:STANDARD
END:VTIMEZONE
END:VCALENDAR