BEGIN:VCALENDAR
VERSION:2.0
PRODID:-//wp-events-plugin.com//7.2.3.1//EN
TZID:America/Los_Angeles
X-WR-TIMEZONE:America/Los_Angeles
BEGIN:VEVENT
UID:3966@experiencetacoma.com
DTSTART;TZID=America/Los_Angeles:20190810T120000
DTEND;TZID=America/Los_Angeles:20190810T160000
DTSTAMP:20190731T060751Z
URL:https://experiencetacoma.com/events/craft-saturday-fish-painting/
SUMMARY:Craft Saturday - Fish Painting
DESCRIPTION:Drop by Job Carr Cabin Museum for our monthly Craft Saturday ev
 ent. Have you ever painted a fish? Join us and  make a unique fish print t
 o take home. Activities are designed for children ages 3-9 and their famil
 ies. Admission to the Museum and all events are "pay as you can."
CATEGORIES:Family Friendly
LOCATION:Job Carr Cabin Museum\, 2350 N 30th St\, Tacoma\, WA\, 98403\, Uni
 ted States
GEO:47.274355;-122.468455
X-APPLE-STRUCTURED-LOCATION;VALUE=URI;X-ADDRESS=2350 N 30th St\, Tacoma\, W
 A\, 98403\, United States;X-APPLE-RADIUS=100;X-TITLE=Job Carr Cabin Museum
 :geo:47.274355,-122.468455
END:VEVENT
BEGIN:VTIMEZONE
TZID:America/Los_Angeles
X-LIC-LOCATION:America/Los_Angeles
BEGIN:DAYLIGHT
DTSTART:20190310T030000
TZOFFSETFROM:-0800
TZOFFSETTO:-0700
TZNAME:PDT
END:DAYLIGHT
END:VTIMEZONE
END:VCALENDAR