BEGIN:VCALENDAR
VERSION:2.0
PRODID:-//wp-events-plugin.com//7.2.3.1//EN
TZID:America/Los_Angeles
X-WR-TIMEZONE:America/Los_Angeles
BEGIN:VEVENT
UID:1069@experiencetacoma.com
DTSTART;TZID=America/Los_Angeles:20150305T173000
DTEND;TZID=America/Los_Angeles:20150305T193000
DTSTAMP:20150121T191549Z
URL:https://experiencetacoma.com/events/cpr-class-3/
SUMMARY:CPR class
DESCRIPTION:Free CPR classes are taught by firefighters with the Tacoma Fir
 e Department to residents living in Tacoma\, Fife or Fircrest. Pre-registr
 ation is required by calling (253) 594-7979.
LOCATION:Fire Station 16\, 7217 6th Ave.\, Tacoma\, Wa\, United States
GEO:47.255813;-122.53391599999998
X-APPLE-STRUCTURED-LOCATION;VALUE=URI;X-ADDRESS=7217 6th Ave.\, Tacoma\, Wa
 \, United States;X-APPLE-RADIUS=100;X-TITLE=Fire Station 16:geo:47.255813,
 -122.53391599999998
END:VEVENT
BEGIN:VTIMEZONE
TZID:America/Los_Angeles
X-LIC-LOCATION:America/Los_Angeles
BEGIN:STANDARD
DTSTART:20141102T010000
TZOFFSETFROM:-0700
TZOFFSETTO:-0800
TZNAME:PST
END:STANDARD
END:VTIMEZONE
END:VCALENDAR